BEGIN:VCALENDAR
VERSION:2.0
PRODID:-//Historischer Kreis Dorfen e.V. - ECPv6.0.10//NONSGML v1.0//EN
CALSCALE:GREGORIAN
METHOD:PUBLISH
X-WR-CALNAME:Historischer Kreis Dorfen e.V.
X-ORIGINAL-URL:https://historischer-kreis.de
X-WR-CALDESC:Veranstaltungen für Historischer Kreis Dorfen e.V.
REFRESH-INTERVAL;VALUE=DURATION:PT1H
X-Robots-Tag:noindex
X-PUBLISHED-TTL:PT1H
BEGIN:VTIMEZONE
TZID:UTC
BEGIN:STANDARD
TZOFFSETFROM:+0000
TZOFFSETTO:+0000
TZNAME:UTC
DTSTART:20250101T000000
END:STANDARD
END:VTIMEZONE
BEGIN:VEVENT
DTSTART;TZID=UTC:20250609T140000
DTEND;TZID=UTC:20250609T140000
DTSTAMP:20260425T144815
CREATED:20211226T113108Z
LAST-MODIFIED:20250215T120930Z
UID:8877-1749477600-1749477600@historischer-kreis.de
SUMMARY:Wanderung auf dem Ökumenischen Wanderweg Dorfen – Oberdorfen
DESCRIPTION:Wanderung auf dem Ökumenischen Wanderweg Dorfen-Oberdorfen\ngeführt von Herbert Moser und Jürgen Weithas \nTREFFPUNKT: Marktkirche Dorfen\, 14 Uhr\nRückkehr gegen 16 Uhr\, dann Einkehr in einem\nDorfener Café
URL:https://historischer-kreis.de/veranstaltung/historische-ortsfuehrung-in-haag-i-obb/
LOCATION:Bayern
CATEGORIES:Exkursionen,Führungen
ATTACH;FMTTYPE=image/png:https://historischer-kreis.de/wp-content/uploads/2021/12/Bildschirmfoto-2024-02-06-um-15.13.19.png
ORGANIZER;CN="Historischer%20Kreis%20e.V.":MAILTO:wlan-dorfen@web.de
END:VEVENT
BEGIN:VEVENT
DTSTART;TZID=UTC:20250628T080000
DTEND;TZID=UTC:20250628T190000
DTSTAMP:20260425T144815
CREATED:20211226T112016Z
LAST-MODIFIED:20250214T211501Z
UID:8866-1751097600-1751137200@historischer-kreis.de
SUMMARY:Busfahrt zur Landesausstellung nach Regensburg
DESCRIPTION:Busfahrt zur Landesausstellung nach Regensburg\, „Ludwig I. – Bayerns größter König?“ und zum Archäologischen Museum Kelheim\nmittägliche Einkehr in Kelheim \nTREFFPUNKT: Abfahrt 8 Uhr\, Volksfestplatz Dorfen\,\nRückkehr gegen 19 Uhr\n(Anmeldung bis 07.06. bei Zeitschriften Streibl in Dorfen\, Tel. 08081-1263)
URL:https://historischer-kreis.de/veranstaltung/ideenstammtisch-zu-1250-jahre-dorfen/
LOCATION:Bayern
CATEGORIES:Exkursionen,Führungen
ATTACH;FMTTYPE=image/png:https://historischer-kreis.de/wp-content/uploads/2021/12/Bildschirmfoto-2025-02-14-um-22.14.23.png
ORGANIZER;CN="Historischer%20Kreis%20e.V.":MAILTO:wlan-dorfen@web.de
END:VEVENT
END:VCALENDAR