BEGIN:VCALENDAR
VERSION:2.0
PRODID:-//Historischer Kreis Dorfen e.V. - ECPv6.0.10//NONSGML v1.0//EN
CALSCALE:GREGORIAN
METHOD:PUBLISH
X-ORIGINAL-URL:https://historischer-kreis.de
X-WR-CALDESC:Veranstaltungen für Historischer Kreis Dorfen e.V.
REFRESH-INTERVAL;VALUE=DURATION:PT1H
X-Robots-Tag:noindex
X-PUBLISHED-TTL:PT1H
BEGIN:VTIMEZONE
TZID:UTC
BEGIN:STANDARD
TZOFFSETFROM:+0000
TZOFFSETTO:+0000
TZNAME:UTC
DTSTART:20250101T000000
END:STANDARD
END:VTIMEZONE
BEGIN:VEVENT
DTSTART;TZID=UTC:20250503T100000
DTEND;TZID=UTC:20250503T170000
DTSTAMP:20260425T161045
CREATED:20211226T113842Z
LAST-MODIFIED:20250214T120207Z
UID:8880-1746266400-1746291600@historischer-kreis.de
SUMMARY:Geführte Wanderung ins östliche Gäu von Dorfen
DESCRIPTION:Geführte Wanderung ins östliche Gäu von Dorfen \nmit Georg Bauer \nSTARTPUNKT: Bahnhof Dorfen\, 10 Uhr\nEinkehr beim Wirt z‘Loh\, Ende gegen 17 Uhr
URL:https://historischer-kreis.de/veranstaltung/vortrag-ueber-erdstellen-danach-jahreshauptversammlung/
LOCATION:Bahnhof Dorfen\, Bahnhofstraße\, Dorfen\, 84405\, Deutschland
CATEGORIES:Exkursionen,Führungen
ATTACH;FMTTYPE=image/jpeg:https://historischer-kreis.de/wp-content/uploads/2021/12/Gattergebirge.jpg
ORGANIZER;CN="Historischer%20Kreis%20e.V.":MAILTO:wlan-dorfen@web.de
END:VEVENT
BEGIN:VEVENT
DTSTART;TZID=UTC:20250504T140000
DTEND;TZID=UTC:20250504T160000
DTSTAMP:20260425T161045
CREATED:20211226T110407Z
LAST-MODIFIED:20250214T120650Z
UID:8841-1746367200-1746374400@historischer-kreis.de
SUMMARY:Gedenken „80 Jahre Kriegsende“
DESCRIPTION:Gedenken „80 Jahre Kriegsende“\nmit Zeitzeugenberichten\n14 Uhr \n 
URL:https://historischer-kreis.de/veranstaltung/oekumenische-wanderung/
LOCATION:Sparkassensaal Dorfen\, Unterer Marktpl. 39\, Dorfen\, 84405
CATEGORIES:Führungen,Vereinstermine
ATTACH;FMTTYPE=image/jpeg:https://historischer-kreis.de/wp-content/uploads/2021/12/Amerikaner-10.jpg
ORGANIZER;CN="Historischer%20Kreis%20e.V.":MAILTO:wlan-dorfen@web.de
END:VEVENT
BEGIN:VEVENT
DTSTART;TZID=UTC:20250523T190000
DTEND;TZID=UTC:20250523T190000
DTSTAMP:20260425T161045
CREATED:20211226T112656Z
LAST-MODIFIED:20250215T120634Z
UID:8870-1748026800-1748026800@historischer-kreis.de
SUMMARY:Maiandacht in Kleinkatzbach
DESCRIPTION:Maiandacht in Kleinkatzbach\nmit anschl. gemütlichem Beisammensein\nim Schützenheim Hampersdorf\, 19 Uhr
URL:https://historischer-kreis.de/veranstaltung/maiandacht-in-kleinkatzbach/
LOCATION:Kleinkatzbach\, Gemeinde Dorfen\, Bayern\, 84405\, Deutschland
CATEGORIES:Kirchliche Veranstaltungen
ATTACH;FMTTYPE=image/png:https://historischer-kreis.de/wp-content/uploads/2021/12/Bildschirmfoto-2024-02-06-um-15.24.44.png
ORGANIZER;CN="Historischer%20Kreis%20e.V.":MAILTO:wlan-dorfen@web.de
END:VEVENT
END:VCALENDAR