BEGIN:VCALENDAR
VERSION:2.0
PRODID:-//Historischer Kreis Dorfen e.V. - ECPv6.0.10//NONSGML v1.0//EN
CALSCALE:GREGORIAN
METHOD:PUBLISH
X-WR-CALNAME:Historischer Kreis Dorfen e.V.
X-ORIGINAL-URL:https://historischer-kreis.de
X-WR-CALDESC:Veranstaltungen für Historischer Kreis Dorfen e.V.
REFRESH-INTERVAL;VALUE=DURATION:PT1H
X-Robots-Tag:noindex
X-PUBLISHED-TTL:PT1H
BEGIN:VTIMEZONE
TZID:UTC
BEGIN:STANDARD
TZOFFSETFROM:+0000
TZOFFSETTO:+0000
TZNAME:UTC
DTSTART:20250101T000000
END:STANDARD
END:VTIMEZONE
BEGIN:VEVENT
DTSTART;TZID=UTC:20251012T140000
DTEND;TZID=UTC:20251012T150000
DTSTAMP:20260425T103106
CREATED:20250215T123228Z
LAST-MODIFIED:20250215T123228Z
UID:9711-1760277600-1760281200@historischer-kreis.de
SUMMARY:Führungen im Heimatmuseum am Herzoggraben
DESCRIPTION:Führungen im Heimatmuseum am Herzoggraben\nmit Maria und Franz Streibl \nORT: Heimatmuseum Dorfen
URL:https://historischer-kreis.de/veranstaltung/fuehrungen-im-heimatmuseum-am-herzoggraben/
LOCATION:Heimatmuseum Dorfen\, Herzoggraben 10\, Dorfen\, Bayern\, 84405\, Deutschland
CATEGORIES:Führungen,Heimatmuseum
ATTACH;FMTTYPE=image/png:https://historischer-kreis.de/wp-content/uploads/2025/02/HMD.png
ORGANIZER;CN="Historischer%20Kreis%20e.V.":MAILTO:wlan-dorfen@web.de
END:VEVENT
END:VCALENDAR