BEGIN:VCALENDAR
VERSION:2.0
PRODID:-//Historischer Kreis Dorfen e.V. - ECPv6.0.10//NONSGML v1.0//EN
CALSCALE:GREGORIAN
METHOD:PUBLISH
X-WR-CALNAME:Historischer Kreis Dorfen e.V.
X-ORIGINAL-URL:https://historischer-kreis.de
X-WR-CALDESC:Veranstaltungen für Historischer Kreis Dorfen e.V.
REFRESH-INTERVAL;VALUE=DURATION:PT1H
X-Robots-Tag:noindex
X-PUBLISHED-TTL:PT1H
BEGIN:VTIMEZONE
TZID:UTC
BEGIN:STANDARD
TZOFFSETFROM:+0000
TZOFFSETTO:+0000
TZNAME:UTC
DTSTART:20250101T000000
END:STANDARD
END:VTIMEZONE
BEGIN:VEVENT
DTSTART;TZID=UTC:20250523T190000
DTEND;TZID=UTC:20250523T190000
DTSTAMP:20260425T172909
CREATED:20211226T112656Z
LAST-MODIFIED:20250215T120634Z
UID:8870-1748026800-1748026800@historischer-kreis.de
SUMMARY:Maiandacht in Kleinkatzbach
DESCRIPTION:Maiandacht in Kleinkatzbach\nmit anschl. gemütlichem Beisammensein\nim Schützenheim Hampersdorf\, 19 Uhr
URL:https://historischer-kreis.de/veranstaltung/maiandacht-in-kleinkatzbach/
LOCATION:Kleinkatzbach\, Gemeinde Dorfen\, Bayern\, 84405\, Deutschland
CATEGORIES:Kirchliche Veranstaltungen
ATTACH;FMTTYPE=image/png:https://historischer-kreis.de/wp-content/uploads/2021/12/Bildschirmfoto-2024-02-06-um-15.24.44.png
ORGANIZER;CN="Historischer%20Kreis%20e.V.":MAILTO:wlan-dorfen@web.de
END:VEVENT
END:VCALENDAR