BEGIN:VCALENDAR
VERSION:2.0
PRODID:-//Historischer Kreis Dorfen e.V. - ECPv6.0.10//NONSGML v1.0//EN
CALSCALE:GREGORIAN
METHOD:PUBLISH
X-WR-CALNAME:Historischer Kreis Dorfen e.V.
X-ORIGINAL-URL:https://historischer-kreis.de
X-WR-CALDESC:Veranstaltungen für Historischer Kreis Dorfen e.V.
REFRESH-INTERVAL;VALUE=DURATION:PT1H
X-Robots-Tag:noindex
X-PUBLISHED-TTL:PT1H
BEGIN:VTIMEZONE
TZID:UTC
BEGIN:STANDARD
TZOFFSETFROM:+0000
TZOFFSETTO:+0000
TZNAME:UTC
DTSTART:20250101T000000
END:STANDARD
END:VTIMEZONE
BEGIN:VEVENT
DTSTART;TZID=UTC:20250330T180000
DTEND;TZID=UTC:20250330T190000
DTSTAMP:20260425T195755
CREATED:20211226T102750Z
LAST-MODIFIED:20250214T115009Z
UID:8798-1743357600-1743361200@historischer-kreis.de
SUMMARY:Vorstellung der Gedenktafel zur Erinnerung an den Pestfriedhof Dorfen
DESCRIPTION:Vorstellung der Gedenktafel zur Erinnerung\nan den Pestfriedhof Dorfen\ngemeinsam mit dem Förderverein Pestkirche\nSt. Sebastianum\n18:00 Uhr.
URL:https://historischer-kreis.de/veranstaltung/kirchenfuehrung-lindum/
LOCATION:St. Sebastian\, Dorfen\, St. Sebastian\, Bayern\, 84405\, Deutschland
CATEGORIES:Vereinstermine
ATTACH;FMTTYPE=image/png:https://historischer-kreis.de/wp-content/uploads/2021/12/StSebastian.png
ORGANIZER;CN="Historischer%20Kreis%20e.V.":MAILTO:wlan-dorfen@web.de
END:VEVENT
END:VCALENDAR