BEGIN:VCALENDAR
VERSION:2.0
PRODID:-//Historischer Kreis Dorfen e.V. - ECPv6.0.10//NONSGML v1.0//EN
CALSCALE:GREGORIAN
METHOD:PUBLISH
X-ORIGINAL-URL:https://historischer-kreis.de
X-WR-CALDESC:Veranstaltungen für Historischer Kreis Dorfen e.V.
REFRESH-INTERVAL;VALUE=DURATION:PT1H
X-Robots-Tag:noindex
X-PUBLISHED-TTL:PT1H
BEGIN:VTIMEZONE
TZID:UTC
BEGIN:STANDARD
TZOFFSETFROM:+0000
TZOFFSETTO:+0000
TZNAME:UTC
DTSTART:20250101T000000
END:STANDARD
END:VTIMEZONE
BEGIN:VEVENT
DTSTART;TZID=UTC:20250301T140000
DTEND;TZID=UTC:20250301T140000
DTSTAMP:20260425T195933
CREATED:20211226T102309Z
LAST-MODIFIED:20250214T113507Z
UID:8792-1740837600-1740837600@historischer-kreis.de
SUMMARY:Besuch der heimatkundlichen Ausstellung Taufkirchen/Vils
DESCRIPTION:Besuch der heimatkundlichen Ausstellung\nTaufkirchen im Gemeindearchiv \nmit Führung durch Archivmitarbeiter\nKonrad Karbaumer\, 14 Uhr \nTREFFPUNKT: Fahrgemeinschaften\, 13.30 Uhr\nam Friedhofsparkplatz Dorfen
URL:https://historischer-kreis.de/veranstaltung/historischer-ortsrundgang-in-isen/
LOCATION:Reckenbacher Str. 25\, Taufkirchen/V.\, Reckenbacher Str. 25\, Taufkirchen/Vils\, Bayern\, Deutschland
CATEGORIES:Exkursionen,Führungen
ATTACH;FMTTYPE=image/png:https://historischer-kreis.de/wp-content/uploads/2021/12/Taufkirchen.png
ORGANIZER;CN="Historischer%20Kreis%20e.V.":MAILTO:wlan-dorfen@web.de
END:VEVENT
END:VCALENDAR